OziExplorer Map Data File Version 2.2
k53-07
Y:\ozi_map\work_map\2\k53-07.jpg
1 ,Map Code,
Pulkovo 1942 (1),, 0.0000, 0.0000,WGS 84
Reserved 1
Reserved 2
Magnetic Variation,,,E
Map Projection,Transverse Mercator,PolyCal,Yes,AutoCalOnly,No,BSBUseWPX,No
Point01,xy, 190, 178,in, deg, 43, 20.0000,N, 132, 0.0000,E, grid, , , ,N
Point02,xy, 2587, 192,in, deg, 43, 20.0000,N, 132, 30.0000,E, grid, , , ,N
Point03,xy, 4984, 189,in, deg, 43, 20.0000,N, 133, 0.0000,E, grid, , , ,N
Point04,xy, 174, 2368,in, deg, 43, 0.0000,N, 132, 0.0000,E, grid, , , ,N
Point05,xy, 2582, 2381,ex, deg, 43, 0.0000,N, 132, 30.0000,E, grid, , , ,N
Point06,xy, 4991, 2378,in, deg, 43, 0.0000,N, 133, 0.0000,E, grid, , , ,N
Point07,xy, 154, 4556,in, deg, 42, 40.0000,N, 132, 0.0000,E, grid, , , ,N
Point08,xy, 2575, 4569,in, deg, 42, 40.0000,N, 132, 30.0000,E, grid, , , ,N
Point09,xy, 4995, 4566,in, deg, 42, 40.0000,N, 133, 0.0000,E, grid, , , ,N
Point10,xy, , ,in, deg, , ,, , ,, grid, , , ,N
Point11,xy, , ,in, deg, , ,, , ,, grid, , , ,N
Point12,xy, , ,in, deg, , ,, , ,, grid, , , ,N
Point13,xy, , ,in, deg, , ,, , ,, grid, , , ,N
Point14,xy, , ,in, deg, , ,, , ,, grid, , , ,N
Point15,xy, , ,in, deg, , ,, , ,, grid, , , ,N
Point16,xy, , ,in, deg, , ,, , ,, grid, , , ,N
Point17,xy, , ,in, deg, , ,, , ,, grid, , , ,N
Point18,xy, , ,in, deg, , ,, , ,, grid, , , ,N
Point19,xy, , ,in, deg, , ,, , ,, grid, , , ,N
Point20,xy, , ,in, deg, , ,, , ,, grid, , , ,N
Point21,xy, , ,in, deg, , ,, , ,, grid, , , ,N
Point22,xy, , ,in, deg, , ,, , ,, grid, , , ,N
Point23,xy, , ,in, deg, , ,, , ,, grid, , , ,N
Point24,xy, , ,in, deg, , ,, , ,, grid, , , ,N
Point25,xy, , ,in, deg, , ,, , ,, grid, , , ,N
Point26,xy, , ,in, deg, , ,, , ,, grid, , , ,N
Point27,xy, , ,in, deg, , ,, , ,, grid, , , ,N
Point28,xy, , ,in, deg, , ,, , ,, grid, , , ,N
Point29,xy, , ,in, deg, , ,, , ,, grid, , , ,N
Point30,xy, , ,in, deg, , ,, , ,, grid, , , ,N
Projection Setup, 0.000000000, 135.000000000, 1.000000000, 23500000.00, 0.00,,,,,
Map Feature = MF ; Map Comment = MC These follow if they exist
Track File = TF These follow if they exist
Moving Map Parameters = MM? These follow if they exist
MM0,Yes
MMPNUM,4
MMPXY,1,187,175
MMPXY,2,4987,187
MMPXY,3,4997,4568
MMPXY,4,152,4556
MMPLL,1, 131.999367, 43.333811
MMPLL,2, 133.000666, 43.333635
MMPLL,3, 133.000415, 42.666335
MMPLL,4, 131.999549, 42.666664
MM1B,16.921994
Other Grid Setup
GRGRID,Yes,4 Km,No,16711680,255,4 Km,0,16777215,8,0,Yes,Yes,No,x
MOP,Map Open Position,0,0
IWH,Map Image Width/Height,5158,4743
