OziExplorer Map Data File Version 2.2
k53-03
Y:\ozi_map\work_map\2\k53-03.jpg
1 ,Map Code,
Pulkovo 1942 (1),, 0.0000, 0.0000,WGS 84
Reserved 1
Reserved 2
Magnetic Variation,,,E
Map Projection,Transverse Mercator,PolyCal,Yes,AutoCalOnly,No,BSBUseWPX,No
Point01,xy, 180, 144,in, deg, 44, 0.0000,N, 134, 0.0000,E, grid, , , ,N
Point02,xy, 2551, 163,in, deg, 44, 0.0000,N, 134, 30.0000,E, grid, , , ,N
Point03,xy, 4920, 160,in, deg, 44, 0.0000,N, 135, 0.0000,E, grid, , , ,N
Point04,xy, 163, 2333,in, deg, 43, 40.0000,N, 134, 0.0000,E, grid, , , ,N
Point05,xy, 2542, 2348,in, deg, 43, 40.0000,N, 134, 30.0000,E, grid, , , ,N
Point06,xy, 4925, 2350,in, deg, 43, 40.0000,N, 135, 0.0000,E, grid, , , ,N
Point07,xy, 140, 4520,in, deg, 43, 20.0000,N, 134, 0.0000,E, grid, , , ,N
Point08,xy, 2536, 4537,in, deg, 43, 20.0000,N, 134, 30.0000,E, grid, , , ,N
Point09,xy, 4928, 4538,in, deg, 43, 20.0000,N, 135, 0.0000,E, grid, , , ,N
Point10,xy, , ,in, deg, , ,, , ,, grid, , , ,N
Point11,xy, , ,in, deg, , ,, , ,, grid, , , ,N
Point12,xy, , ,in, deg, , ,, , ,, grid, , , ,N
Point13,xy, , ,in, deg, , ,, , ,, grid, , , ,N
Point14,xy, , ,in, deg, , ,, , ,, grid, , , ,N
Point15,xy, , ,in, deg, , ,, , ,, grid, , , ,N
Point16,xy, , ,in, deg, , ,, , ,, grid, , , ,N
Point17,xy, , ,in, deg, , ,, , ,, grid, , , ,N
Point18,xy, , ,in, deg, , ,, , ,, grid, , , ,N
Point19,xy, , ,in, deg, , ,, , ,, grid, , , ,N
Point20,xy, , ,in, deg, , ,, , ,, grid, , , ,N
Point21,xy, , ,in, deg, , ,, , ,, grid, , , ,N
Point22,xy, , ,in, deg, , ,, , ,, grid, , , ,N
Point23,xy, , ,in, deg, , ,, , ,, grid, , , ,N
Point24,xy, , ,in, deg, , ,, , ,, grid, , , ,N
Point25,xy, , ,in, deg, , ,, , ,, grid, , , ,N
Point26,xy, , ,in, deg, , ,, , ,, grid, , , ,N
Point27,xy, , ,in, deg, , ,, , ,, grid, , , ,N
Point28,xy, , ,in, deg, , ,, , ,, grid, , , ,N
Point29,xy, , ,in, deg, , ,, , ,, grid, , , ,N
Point30,xy, , ,in, deg, , ,, , ,, grid, , , ,N
Projection Setup, 0.000000000, 135.000000000, 1.000000000, 23500000.00, 0.00,,,,,
Map Feature = MF ; Map Comment = MC These follow if they exist
Track File = TF These follow if they exist
Moving Map Parameters = MM? These follow if they exist
MM0,Yes
MMPNUM,4
MMPXY,1,178,143
MMPXY,2,4923,157
MMPXY,3,4931,4541
MMPXY,4,138,4523
MMPLL,1, 133.999454, 44.000276
MMPLL,2, 135.000663, 44.000583
MMPLL,3, 135.000583, 43.332849
MMPLL,4, 133.999401, 43.332846
MM1B,16.925900
Other Grid Setup
GRGRID,Yes,4 Km,No,16711680,255,4 Km,0,16777215,8,0,Yes,Yes,No,x
MOP,Map Open Position,0,0
IWH,Map Image Width/Height,5086,4688
