OziExplorer Map Data File Version 2.2
k53-014
Y:\ozi_map\work_map\1\k53-014.jpg
1 ,Map Code,
Pulkovo 1942 (1),, 0.0000, 0.0000,WGS 84
Reserved 1
Reserved 2
Magnetic Variation,,,E
Map Projection,Transverse Mercator,PolyCal,Yes,AutoCalOnly,No,BSBUseWPX,No
Point01,xy, 88, 122,ex, deg, 43, 40.0000,N, 132, 30.0000,E, grid, , , ,N
Point02,xy, 1258, 122,ex, deg, 43, 40.0000,N, 132, 45.0000,E, grid, , , ,N
Point03,xy, 2428, 122,ex, deg, 43, 40.0000,N, 133, 0.0000,E, grid, , , ,N
Point04,xy, 88, 1750,ex, deg, 43, 30.0000,N, 132, 30.0000,E, grid, , , ,N
Point05,xy, 5, 1237,in, deg, 43, 30.0000,N, 132, 45.0000,E, grid, , , ,N
Point06,xy, 2392, 1253,in, deg, 43, 30.0000,N, 133, 0.0000,E, grid, , , ,N
Point07,xy, 88, 3378,ex, deg, 43, 20.0000,N, 132, 30.0000,E, grid, , , ,N
Point08,xy, 136, 3420,ex, deg, 43, 20.0000,N, 132, 45.0000,E, grid, , , ,N
Point09,xy, 2371, 3440,in, deg, 43, 20.0000,N, 133, 0.0000,E, grid, , , ,N
Point10,xy, , ,in, deg, , ,, , ,, grid, , , ,N
Point11,xy, , ,in, deg, , ,, , ,, grid, , , ,N
Point12,xy, , ,in, deg, , ,, , ,, grid, , , ,N
Point13,xy, , ,in, deg, , ,, , ,, grid, , , ,N
Point14,xy, , ,in, deg, , ,, , ,, grid, , , ,N
Point15,xy, , ,in, deg, , ,, , ,, grid, , , ,N
Point16,xy, , ,in, deg, , ,, , ,, grid, , , ,N
Point17,xy, , ,in, deg, , ,, , ,, grid, , , ,N
Point18,xy, , ,in, deg, , ,, , ,, grid, , , ,N
Point19,xy, , ,in, deg, , ,, , ,, grid, , , ,N
Point20,xy, , ,in, deg, , ,, , ,, grid, , , ,N
Point21,xy, , ,in, deg, , ,, , ,, grid, , , ,N
Point22,xy, , ,in, deg, , ,, , ,, grid, , , ,N
Point23,xy, , ,in, deg, , ,, , ,, grid, , , ,N
Point24,xy, , ,in, deg, , ,, , ,, grid, , , ,N
Point25,xy, , ,in, deg, , ,, , ,, grid, , , ,N
Point26,xy, , ,in, deg, , ,, , ,, grid, , , ,N
Point27,xy, , ,in, deg, , ,, , ,, grid, , , ,N
Point28,xy, , ,in, deg, , ,, , ,, grid, , , ,N
Point29,xy, , ,in, deg, , ,, , ,, grid, , , ,N
Point30,xy, , ,in, deg, , ,, , ,, grid, , , ,N
Projection Setup, 0.000000000, 135.000000000, 1.000000000, 23500000.00, 0.00,,,,,
Map Feature = MF ; Map Comment = MC These follow if they exist
Track File = TF These follow if they exist
Moving Map Parameters = MM? These follow if they exist
MM0,Yes
MMPNUM,4
MMPXY,1,4,3
MMPXY,2,2290,87
MMPXY,3,2376,3445
MMPXY,4,112,3463
MMPLL,1, 132.748256, 43.594022
MMPLL,2, 132.988120, 43.588811
MMPLL,3, 133.000527, 43.332954
MMPLL,4, 132.764103, 43.330455
MM1B,8.468420
Other Grid Setup
GRGRID,Yes,2 Km,No,16711680,255,2 Km,0,16777215,8,0,Yes,Yes,No,x
MOP,Map Open Position,0,0
IWH,Map Image Width/Height,2517,3501
